BEGIN:VCALENDAR
VERSION:2.0
PRODID:-//Na Koa - ECPv6.7.0//NONSGML v1.0//EN
CALSCALE:GREGORIAN
METHOD:PUBLISH
X-WR-CALNAME:Na Koa
X-ORIGINAL-URL:https://www.nakoa.org
X-WR-CALDESC:Events for Na Koa
REFRESH-INTERVAL;VALUE=DURATION:PT1H
X-Robots-Tag:noindex
X-PUBLISHED-TTL:PT1H
BEGIN:VTIMEZONE
TZID:Pacific/Honolulu
BEGIN:STANDARD
TZOFFSETFROM:-1000
TZOFFSETTO:-1000
TZNAME:HST
DTSTART:20210101T000000
END:STANDARD
END:VTIMEZONE
BEGIN:VEVENT
DTSTART;TZID=Pacific/Honolulu:20210615T080000
DTEND;TZID=Pacific/Honolulu:20210715T170000
DTSTAMP:20260420T233932
CREATED:20210423T205403Z
LAST-MODIFIED:20210423T205403Z
UID:5389-1623744000-1626368400@www.nakoa.org
SUMMARY:27th Annual Ed Wong Memorial Virtual Golf Tournament
DESCRIPTION:Golf a round at the Hawaii Prince Golf Club or your favorite course while raising much needed funds for your Rainbow Warrior Football Team!  Chose a reserved tee time on Thursday or Saturday from June 15th – July 15th or if another date works for you\, we can make arrangements with the Hawaii Prince Golf Club.  Gather a bunch of your favorite golf buddies and you can create your own mini tournament by reserving back to back tee times.  Na Koa logo items will be sent to you after the tournament and we have place team prizes along with team picture prizes (funniest team picture\, team spirit award). \nNaKoa Virtual GolfTournament Registration 2021
URL:https://www.nakoa.org/event-calendar/27th-annual-ed-wong-memorial-virtual-golf-tournament/
LOCATION:Hawaii Prince Golf Club\, 91-1200 Fort Weaver Rd\, Ewa Beach\, HI\, 96706\, United States
CATEGORIES:nakoa_event
ATTACH;FMTTYPE=image/jpeg:https://www.nakoa.org/wp-content/uploads/2021/04/27NaKoa-GolfTournament-Header-1.jpg
GEO:21.3279596;-158.0206244
X-APPLE-STRUCTURED-LOCATION;VALUE=URI;X-ADDRESS=Hawaii Prince Golf Club 91-1200 Fort Weaver Rd Ewa Beach HI 96706 United States;X-APPLE-RADIUS=500;X-TITLE=91-1200 Fort Weaver Rd:geo:-158.0206244,21.3279596
END:VEVENT
END:VCALENDAR