BEGIN:VCALENDAR
VERSION:2.0
PRODID:-//Na Koa - ECPv6.7.0//NONSGML v1.0//EN
CALSCALE:GREGORIAN
METHOD:PUBLISH
X-ORIGINAL-URL:https://www.nakoa.org
X-WR-CALDESC:Events for Na Koa
REFRESH-INTERVAL;VALUE=DURATION:PT1H
X-Robots-Tag:noindex
X-PUBLISHED-TTL:PT1H
BEGIN:VTIMEZONE
TZID:Pacific/Honolulu
BEGIN:STANDARD
TZOFFSETFROM:-1000
TZOFFSETTO:-1000
TZNAME:HST
DTSTART:20220101T000000
END:STANDARD
END:VTIMEZONE
BEGIN:VEVENT
DTSTART;VALUE=DATE:20221119
DTEND;VALUE=DATE:20221120
DTSTAMP:20260422T161209
CREATED:20220806T023045Z
LAST-MODIFIED:20220806T023045Z
UID:6293-1668816000-1668902399@www.nakoa.org
SUMMARY:Hawaii vs UNLV
DESCRIPTION:Kick Off at 6:00 PM HST \n 
URL:https://www.nakoa.org/event-calendar/hawaii-vs-unlv/
LOCATION:Clarence T.C. Ching Complex
CATEGORIES:athletics_event
END:VEVENT
END:VCALENDAR