BEGIN:VCALENDAR
VERSION:2.0
PRODID:-//Na Koa - ECPv6.7.0//NONSGML v1.0//EN
CALSCALE:GREGORIAN
METHOD:PUBLISH
X-WR-CALNAME:Na Koa
X-ORIGINAL-URL:https://www.nakoa.org
X-WR-CALDESC:Events for Na Koa
REFRESH-INTERVAL;VALUE=DURATION:PT1H
X-Robots-Tag:noindex
X-PUBLISHED-TTL:PT1H
BEGIN:VTIMEZONE
TZID:Pacific/Honolulu
BEGIN:STANDARD
TZOFFSETFROM:-1000
TZOFFSETTO:-1000
TZNAME:HST
DTSTART:20220101T000000
END:STANDARD
END:VTIMEZONE
BEGIN:VEVENT
DTSTART;TZID=Pacific/Honolulu:20220412T080000
DTEND;TZID=Pacific/Honolulu:20220412T170000
DTSTAMP:20260423T044403
CREATED:20220124T202014Z
LAST-MODIFIED:20220217T051443Z
UID:6079-1649750400-1649782800@www.nakoa.org
SUMMARY:28th Annual Ed Wong Memorial Golf tournament
DESCRIPTION:The 28th annual Ed Wong Memorial Golf Tournament is scheduled for Tuesday\, April 12 at the Hawaii Prince Golf Course. \nClick the link below for our event flyer: \nNK NaKoa GolfTournament 2022 (FINAL)
URL:https://www.nakoa.org/event-calendar/28th-annual-ed-wong-memorial-golf-tournament/
LOCATION:Hawaii Prince Golf Club\, 91-1200 Fort Weaver Rd\, Ewa Beach\, HI\, 96706\, United States
CATEGORIES:nakoa_event
GEO:21.3279596;-158.0206244
X-APPLE-STRUCTURED-LOCATION;VALUE=URI;X-ADDRESS=Hawaii Prince Golf Club 91-1200 Fort Weaver Rd Ewa Beach HI 96706 United States;X-APPLE-RADIUS=500;X-TITLE=91-1200 Fort Weaver Rd:geo:-158.0206244,21.3279596
END:VEVENT
END:VCALENDAR