BEGIN:VCALENDAR
VERSION:2.0
PRODID:-//Na Koa - ECPv6.7.0//NONSGML v1.0//EN
CALSCALE:GREGORIAN
METHOD:PUBLISH
X-ORIGINAL-URL:https://www.nakoa.org
X-WR-CALDESC:Events for Na Koa
REFRESH-INTERVAL;VALUE=DURATION:PT1H
X-Robots-Tag:noindex
X-PUBLISHED-TTL:PT1H
BEGIN:VTIMEZONE
TZID:Pacific/Honolulu
BEGIN:STANDARD
TZOFFSETFROM:-1000
TZOFFSETTO:-1000
TZNAME:HST
DTSTART:20220101T000000
END:STANDARD
END:VTIMEZONE
BEGIN:VEVENT
DTSTART;VALUE=DATE:20221105
DTEND;VALUE=DATE:20221106
DTSTAMP:20260422T173457
CREATED:20220806T022853Z
LAST-MODIFIED:20220806T022853Z
UID:6291-1667606400-1667692799@www.nakoa.org
SUMMARY:Hawaii vs Fresno State (away)
DESCRIPTION:Kick off TBD \nFresno\, California
URL:https://www.nakoa.org/event-calendar/hawaii-vs-fresno-state-away/
LOCATION:HI
END:VEVENT
BEGIN:VEVENT
DTSTART;TZID=Pacific/Honolulu:20221108T123000
DTEND;TZID=Pacific/Honolulu:20221108T133000
DTSTAMP:20260422T173457
CREATED:20220809T023145Z
LAST-MODIFIED:20220809T023145Z
UID:6299-1667910600-1667914200@www.nakoa.org
SUMMARY:Nā Koa Board Meeting
DESCRIPTION:
URL:https://www.nakoa.org/event-calendar/na-koa-board-meeting-2/
LOCATION:HI
CATEGORIES:nakoa_event
END:VEVENT
BEGIN:VEVENT
DTSTART;VALUE=DATE:20221112
DTEND;VALUE=DATE:20221113
DTSTAMP:20260422T173457
CREATED:20220806T022943Z
LAST-MODIFIED:20220806T022943Z
UID:6292-1668211200-1668297599@www.nakoa.org
SUMMARY:Hawaii vs Utah State
DESCRIPTION:Kick off at 6:00 PM HST
URL:https://www.nakoa.org/event-calendar/hawaii-vs-utah-state/
LOCATION:Clarence T.C. Ching Complex
CATEGORIES:athletics_event
END:VEVENT
BEGIN:VEVENT
DTSTART;VALUE=DATE:20221119
DTEND;VALUE=DATE:20221120
DTSTAMP:20260422T173457
CREATED:20220806T023045Z
LAST-MODIFIED:20220806T023045Z
UID:6293-1668816000-1668902399@www.nakoa.org
SUMMARY:Hawaii vs UNLV
DESCRIPTION:Kick Off at 6:00 PM HST \n 
URL:https://www.nakoa.org/event-calendar/hawaii-vs-unlv/
LOCATION:Clarence T.C. Ching Complex
CATEGORIES:athletics_event
END:VEVENT
BEGIN:VEVENT
DTSTART;VALUE=DATE:20221126
DTEND;VALUE=DATE:20221127
DTSTAMP:20260422T173457
CREATED:20220806T023150Z
LAST-MODIFIED:20220806T023150Z
UID:6294-1669420800-1669507199@www.nakoa.org
SUMMARY:Hawaii vs San Jose State (away)
DESCRIPTION:Kick off at 10:30 AM HST \nSan Jose\, California
URL:https://www.nakoa.org/event-calendar/hawaii-vs-san-jose-state-away/
LOCATION:Clarence T.C. Ching Complex
CATEGORIES:athletics_event
END:VEVENT
BEGIN:VEVENT
DTSTART;TZID=Pacific/Honolulu:20221129T000000
DTEND;TZID=Pacific/Honolulu:20221130T000000
DTSTAMP:20260422T173457
CREATED:20221128T224554Z
LAST-MODIFIED:20221128T224554Z
UID:6616-1669680000-1669766400@www.nakoa.org
SUMMARY:Giving Tuesday!
DESCRIPTION:Tuesday\, November 28th is Giving Tuesday and the Warrior Football program is asking for your help in three different ways! \nOne of Coach Timmy’s goals during his first year as head coach was to increase the amount we feed our student-athletes.  The extra nutrition helps to keep the team healthy\, build and maintain muscle and fuel their brains!  A donation to our nutrition fund would help feed our players. \nThis year we’re honoring our seniors and athletes who were difference makers this season with awards!  Your gift would help to show our aloha to our seniors for staying and representing Hawaii proudly! \nColt Brennan’s family is continuing their support of Warrior Football by helping to create the Colt Brennan Legacy Fund! Your contribution would support the football program while honoring Colt’s memory. \nMahalo for your continued support of Rainbow Warrior Football and Da Braddahhood! \n 
URL:https://www.nakoa.org/event-calendar/giving-tuesday/
LOCATION:HI
END:VEVENT
END:VCALENDAR