BEGIN:VCALENDAR
VERSION:2.0
PRODID:-//Na Koa - ECPv6.7.0//NONSGML v1.0//EN
CALSCALE:GREGORIAN
METHOD:PUBLISH
X-WR-CALNAME:Na Koa
X-ORIGINAL-URL:https://www.nakoa.org
X-WR-CALDESC:Events for Na Koa
REFRESH-INTERVAL;VALUE=DURATION:PT1H
X-Robots-Tag:noindex
X-PUBLISHED-TTL:PT1H
BEGIN:VTIMEZONE
TZID:Pacific/Honolulu
BEGIN:STANDARD
TZOFFSETFROM:-1000
TZOFFSETTO:-1000
TZNAME:HST
DTSTART:20230101T000000
END:STANDARD
END:VTIMEZONE
BEGIN:VEVENT
DTSTART;TZID=Pacific/Honolulu:20230612T170000
DTEND;TZID=Pacific/Honolulu:20230612T210000
DTSTAMP:20260421T022539
CREATED:20230606T032343Z
LAST-MODIFIED:20230606T032343Z
UID:6873-1686589200-1686603600@www.nakoa.org
SUMMARY:UH Football Alumni Dinner with Coach Timmy Chang & Staff
DESCRIPTION:Join the UH Football Alumni Association for dinner with Coach Timmy Chang and the football staff.  Hang out with some of your favorite football alumni. \nTickets are $75 and include dinner\, two drink tickets and live music \n 
URL:https://www.nakoa.org/event-calendar/uh-football-alumni-dinner-with-coach-timmy-chang-staff/
LOCATION:Buho Waikiki\, 2250 Kalakaua Avenue\, Honolulu\, HI\, United States
ORGANIZER;CN="UH Football Alumni Association":MAILTO:www.uhfaa.com
END:VEVENT
END:VCALENDAR